BEGIN:VCALENDAR
VERSION:2.0
PRODID:-//Sinclairville Free Library - ECPv6.15.20//NONSGML v1.0//EN
CALSCALE:GREGORIAN
METHOD:PUBLISH
X-ORIGINAL-URL:https://sinclairvillelibrary.org
X-WR-CALDESC:Events for Sinclairville Free Library
REFRESH-INTERVAL;VALUE=DURATION:PT1H
X-Robots-Tag:noindex
X-PUBLISHED-TTL:PT1H
BEGIN:VTIMEZONE
TZID:America/New_York
BEGIN:DAYLIGHT
TZOFFSETFROM:-0500
TZOFFSETTO:-0400
TZNAME:EDT
DTSTART:20160313T070000
END:DAYLIGHT
BEGIN:STANDARD
TZOFFSETFROM:-0400
TZOFFSETTO:-0500
TZNAME:EST
DTSTART:20161106T060000
END:STANDARD
BEGIN:DAYLIGHT
TZOFFSETFROM:-0500
TZOFFSETTO:-0400
TZNAME:EDT
DTSTART:20170312T070000
END:DAYLIGHT
BEGIN:STANDARD
TZOFFSETFROM:-0400
TZOFFSETTO:-0500
TZNAME:EST
DTSTART:20171105T060000
END:STANDARD
BEGIN:DAYLIGHT
TZOFFSETFROM:-0500
TZOFFSETTO:-0400
TZNAME:EDT
DTSTART:20180311T070000
END:DAYLIGHT
BEGIN:STANDARD
TZOFFSETFROM:-0400
TZOFFSETTO:-0500
TZNAME:EST
DTSTART:20181104T060000
END:STANDARD
END:VTIMEZONE
BEGIN:VEVENT
DTSTART;TZID=America/New_York:20171020T090000
DTEND;TZID=America/New_York:20171020T100000
DTSTAMP:20260422T040624
CREATED:20171012T202955Z
LAST-MODIFIED:20171012T202955Z
UID:676-1508490000-1508493600@sinclairvillelibrary.org
SUMMARY:Write Circle
DESCRIPTION:
URL:https://sinclairvillelibrary.org/event/write-circle-14/
CATEGORIES:Programming
END:VEVENT
BEGIN:VEVENT
DTSTART;TZID=America/New_York:20171018T110000
DTEND;TZID=America/New_York:20171018T130000
DTSTAMP:20260422T040624
CREATED:20171012T203448Z
LAST-MODIFIED:20171012T203448Z
UID:688-1508324400-1508331600@sinclairvillelibrary.org
SUMMARY:Beginning Computer Class Part 2
DESCRIPTION:
URL:https://sinclairvillelibrary.org/event/beginning-computer-class-part-2/
CATEGORIES:Programming
END:VEVENT
BEGIN:VEVENT
DTSTART;TZID=America/New_York:20171016T110000
DTEND;TZID=America/New_York:20171016T130000
DTSTAMP:20260422T040624
CREATED:20171012T203416Z
LAST-MODIFIED:20171012T203416Z
UID:686-1508151600-1508158800@sinclairvillelibrary.org
SUMMARY:Beginning Computer Class
DESCRIPTION:
URL:https://sinclairvillelibrary.org/event/beginning-computer-class/
CATEGORIES:Programming
END:VEVENT
BEGIN:VEVENT
DTSTART;TZID=America/New_York:20171013T143000
DTEND;TZID=America/New_York:20171013T170000
DTSTAMP:20260422T040624
CREATED:20171012T200240Z
LAST-MODIFIED:20171012T200240Z
UID:662-1507905000-1507914000@sinclairvillelibrary.org
SUMMARY:Youth Group
DESCRIPTION:Fun at the library for students in grades 6 through 12! Join us for games\, pizza and homework help when needed. Celebrate the end of the school week at the library with your friends!
URL:https://sinclairvillelibrary.org/event/youth-group/
CATEGORIES:Programming
END:VEVENT
BEGIN:VEVENT
DTSTART;TZID=America/New_York:20171013T103000
DTEND;TZID=America/New_York:20171013T120000
DTSTAMP:20260422T040624
CREATED:20171012T195827Z
LAST-MODIFIED:20171012T195827Z
UID:660-1507890600-1507896000@sinclairvillelibrary.org
SUMMARY:Needlecrafts
DESCRIPTION:Join the Needlecraft Circle to enjoy fellowship with others who enjoy quilting\, knitting\, crochet\, embroidery and other crafts. Have fun making friends\, finishing your projects and learning new skills.
URL:https://sinclairvillelibrary.org/event/needlecrafts-13/
CATEGORIES:Programming
END:VEVENT
BEGIN:VEVENT
DTSTART;TZID=America/New_York:20171013T090000
DTEND;TZID=America/New_York:20171013T100000
DTSTAMP:20260422T040624
CREATED:20171012T195242Z
LAST-MODIFIED:20171012T195242Z
UID:658-1507885200-1507888800@sinclairvillelibrary.org
SUMMARY:Write Circle
DESCRIPTION:
URL:https://sinclairvillelibrary.org/event/write-circle-13/
CATEGORIES:Programming
END:VEVENT
BEGIN:VEVENT
DTSTART;TZID=America/New_York:20170929T103000
DTEND;TZID=America/New_York:20170929T120000
DTSTAMP:20260422T040624
CREATED:20170906T150646Z
LAST-MODIFIED:20170906T150646Z
UID:547-1506681000-1506686400@sinclairvillelibrary.org
SUMMARY:Needlecrafts
DESCRIPTION:
URL:https://sinclairvillelibrary.org/event/needlecrafts-12/
CATEGORIES:Programming
END:VEVENT
BEGIN:VEVENT
DTSTART;TZID=America/New_York:20170929T090000
DTEND;TZID=America/New_York:20170929T100000
DTSTAMP:20260422T040624
CREATED:20170906T150617Z
LAST-MODIFIED:20170906T150617Z
UID:545-1506675600-1506679200@sinclairvillelibrary.org
SUMMARY:Write Circle
DESCRIPTION:
URL:https://sinclairvillelibrary.org/event/write-circle-12/
CATEGORIES:Programming
END:VEVENT
BEGIN:VEVENT
DTSTART;TZID=America/New_York:20170922T140000
DTEND;TZID=America/New_York:20170922T160000
DTSTAMP:20260422T040624
CREATED:20170906T150148Z
LAST-MODIFIED:20170906T150148Z
UID:533-1506088800-1506096000@sinclairvillelibrary.org
SUMMARY:Memoir Writing
DESCRIPTION:
URL:https://sinclairvillelibrary.org/event/memoir-writing-3/
CATEGORIES:Programming
END:VEVENT
BEGIN:VEVENT
DTSTART;TZID=America/New_York:20170922T103000
DTEND;TZID=America/New_York:20170922T120000
DTSTAMP:20260422T040624
CREATED:20170906T150108Z
LAST-MODIFIED:20170906T150108Z
UID:531-1506076200-1506081600@sinclairvillelibrary.org
SUMMARY:Needlecrafts
DESCRIPTION:
URL:https://sinclairvillelibrary.org/event/needlecrafts-11/
CATEGORIES:Programming
END:VEVENT
BEGIN:VEVENT
DTSTART;TZID=America/New_York:20170922T090000
DTEND;TZID=America/New_York:20170922T100000
DTSTAMP:20260422T040624
CREATED:20170906T150029Z
LAST-MODIFIED:20170906T150029Z
UID:529-1506070800-1506074400@sinclairvillelibrary.org
SUMMARY:Write Circle
DESCRIPTION:
URL:https://sinclairvillelibrary.org/event/write-circle-11/
CATEGORIES:Programming
END:VEVENT
BEGIN:VEVENT
DTSTART;TZID=America/New_York:20170921T160000
DTEND;TZID=America/New_York:20170921T183000
DTSTAMP:20260422T040624
CREATED:20170906T144222Z
LAST-MODIFIED:20170906T182906Z
UID:507-1506009600-1506018600@sinclairvillelibrary.org
SUMMARY:Needle Crafts with Gail
DESCRIPTION:
URL:https://sinclairvillelibrary.org/event/needle-crafts-with-gail/
CATEGORIES:Programming
END:VEVENT
BEGIN:VEVENT
DTSTART;TZID=America/New_York:20170920T180000
DTEND;TZID=America/New_York:20170920T190000
DTSTAMP:20260422T040624
CREATED:20170906T144110Z
LAST-MODIFIED:20170906T182912Z
UID:505-1505930400-1505934000@sinclairvillelibrary.org
SUMMARY:Local Author Jessie Andersen presents Gene Rift
DESCRIPTION:
URL:https://sinclairvillelibrary.org/event/local-author-jessie-andersen-presents-gene-rift/
CATEGORIES:Programming
END:VEVENT
BEGIN:VEVENT
DTSTART;TZID=America/New_York:20170916T110000
DTEND;TZID=America/New_York:20170916T120000
DTSTAMP:20260422T040624
CREATED:20170906T143845Z
LAST-MODIFIED:20170906T143845Z
UID:501-1505559600-1505563200@sinclairvillelibrary.org
SUMMARY:Youth Write Circle
DESCRIPTION:
URL:https://sinclairvillelibrary.org/event/youth-write-circle-3/
CATEGORIES:Programming
END:VEVENT
BEGIN:VEVENT
DTSTART;TZID=America/New_York:20170915T103000
DTEND;TZID=America/New_York:20170915T113000
DTSTAMP:20260422T040624
CREATED:20170906T145848Z
LAST-MODIFIED:20170906T145848Z
UID:525-1505471400-1505475000@sinclairvillelibrary.org
SUMMARY:Needlecrafts
DESCRIPTION:
URL:https://sinclairvillelibrary.org/event/needlecrafts-10/
CATEGORIES:Programming
END:VEVENT
BEGIN:VEVENT
DTSTART;TZID=America/New_York:20170915T090000
DTEND;TZID=America/New_York:20170915T100000
DTSTAMP:20260422T040624
CREATED:20170906T145803Z
LAST-MODIFIED:20170906T145803Z
UID:523-1505466000-1505469600@sinclairvillelibrary.org
SUMMARY:Write Circle
DESCRIPTION:
URL:https://sinclairvillelibrary.org/event/write-circle-10/
CATEGORIES:Programming
END:VEVENT
BEGIN:VEVENT
DTSTART;TZID=America/New_York:20170908T103000
DTEND;TZID=America/New_York:20170908T120000
DTSTAMP:20260422T040624
CREATED:20170906T144513Z
LAST-MODIFIED:20170906T182928Z
UID:511-1504866600-1504872000@sinclairvillelibrary.org
SUMMARY:Needlecrafts
DESCRIPTION:
URL:https://sinclairvillelibrary.org/event/needlecrafts-9/
CATEGORIES:Programming
END:VEVENT
BEGIN:VEVENT
DTSTART;TZID=America/New_York:20170908T090000
DTEND;TZID=America/New_York:20170908T100000
DTSTAMP:20260422T040624
CREATED:20170906T144359Z
LAST-MODIFIED:20170906T182933Z
UID:509-1504861200-1504864800@sinclairvillelibrary.org
SUMMARY:Write Circle
DESCRIPTION:
URL:https://sinclairvillelibrary.org/event/write-circle-9/
CATEGORIES:Programming
END:VEVENT
BEGIN:VEVENT
DTSTART;TZID=America/New_York:20170830T093000
DTEND;TZID=America/New_York:20170830T113000
DTSTAMP:20260422T040624
CREATED:20170825T175718Z
LAST-MODIFIED:20170825T175718Z
UID:322-1504085400-1504092600@sinclairvillelibrary.org
SUMMARY:Child's Play Storytime
DESCRIPTION:
URL:https://sinclairvillelibrary.org/event/childs-play-storytime-10/
CATEGORIES:Programming,Storytime
END:VEVENT
BEGIN:VEVENT
DTSTART;TZID=America/New_York:20170830T090000
DTEND;TZID=America/New_York:20170830T100000
DTSTAMP:20260422T040624
CREATED:20170825T175641Z
LAST-MODIFIED:20170825T175641Z
UID:320-1504083600-1504087200@sinclairvillelibrary.org
SUMMARY:T.O.P.S.
DESCRIPTION:
URL:https://sinclairvillelibrary.org/event/t-o-p-s-10/
CATEGORIES:Programming
END:VEVENT
BEGIN:VEVENT
DTSTART;TZID=America/New_York:20170825T140000
DTEND;TZID=America/New_York:20170825T160000
DTSTAMP:20260422T040624
CREATED:20170825T175524Z
LAST-MODIFIED:20170825T201228Z
UID:316-1503669600-1503676800@sinclairvillelibrary.org
SUMMARY:Memoir Writing
DESCRIPTION:
URL:https://sinclairvillelibrary.org/event/memoir-writing-2/
CATEGORIES:Programming
END:VEVENT
BEGIN:VEVENT
DTSTART;TZID=America/New_York:20170825T090000
DTEND;TZID=America/New_York:20170825T100000
DTSTAMP:20260422T040624
CREATED:20170825T174932Z
LAST-MODIFIED:20170825T174932Z
UID:314-1503651600-1503655200@sinclairvillelibrary.org
SUMMARY:Write Circle
DESCRIPTION:
URL:https://sinclairvillelibrary.org/event/write-circle-8/
CATEGORIES:Programming
END:VEVENT
BEGIN:VEVENT
DTSTART;TZID=America/New_York:20170823T093000
DTEND;TZID=America/New_York:20170823T113000
DTSTAMP:20260422T040624
CREATED:20170825T174905Z
LAST-MODIFIED:20170825T174905Z
UID:312-1503480600-1503487800@sinclairvillelibrary.org
SUMMARY:Child's Play Storytime
DESCRIPTION:
URL:https://sinclairvillelibrary.org/event/childs-play-storytime-9/
CATEGORIES:Programming,Storytime
END:VEVENT
BEGIN:VEVENT
DTSTART;TZID=America/New_York:20170823T090000
DTEND;TZID=America/New_York:20170823T100000
DTSTAMP:20260422T040624
CREATED:20170825T174817Z
LAST-MODIFIED:20170825T174817Z
UID:310-1503478800-1503482400@sinclairvillelibrary.org
SUMMARY:T.O.P.S.
DESCRIPTION:
URL:https://sinclairvillelibrary.org/event/t-o-p-s-9/
CATEGORIES:Programming
END:VEVENT
BEGIN:VEVENT
DTSTART;VALUE=DATE:20170821
DTEND;VALUE=DATE:20170822
DTSTAMP:20260422T040624
CREATED:20170825T174003Z
LAST-MODIFIED:20170825T174003Z
UID:306-1503273600-1503359999@sinclairvillelibrary.org
SUMMARY:Solar Eclipse Event
DESCRIPTION:
URL:https://sinclairvillelibrary.org/event/solar-eclipse-event/
CATEGORIES:Programming
END:VEVENT
BEGIN:VEVENT
DTSTART;TZID=America/New_York:20170819T110000
DTEND;TZID=America/New_York:20170819T120000
DTSTAMP:20260422T040624
CREATED:20170825T173036Z
LAST-MODIFIED:20170825T173036Z
UID:304-1503140400-1503144000@sinclairvillelibrary.org
SUMMARY:Youth Write Circle
DESCRIPTION:
URL:https://sinclairvillelibrary.org/event/youth-write-circle-2/
CATEGORIES:Programming
END:VEVENT
BEGIN:VEVENT
DTSTART;TZID=America/New_York:20170818T103000
DTEND;TZID=America/New_York:20170818T113000
DTSTAMP:20260422T040624
CREATED:20170825T172929Z
LAST-MODIFIED:20170825T172929Z
UID:302-1503052200-1503055800@sinclairvillelibrary.org
SUMMARY:Needlecrafts
DESCRIPTION:
URL:https://sinclairvillelibrary.org/event/needlecrafts-7/
CATEGORIES:Programming
END:VEVENT
BEGIN:VEVENT
DTSTART;TZID=America/New_York:20170818T090000
DTEND;TZID=America/New_York:20170818T100000
DTSTAMP:20260422T040624
CREATED:20170825T172809Z
LAST-MODIFIED:20170825T172809Z
UID:300-1503046800-1503050400@sinclairvillelibrary.org
SUMMARY:Write Circle
DESCRIPTION:
URL:https://sinclairvillelibrary.org/event/write-circle-7/
CATEGORIES:Programming
END:VEVENT
BEGIN:VEVENT
DTSTART;TZID=America/New_York:20170816T090000
DTEND;TZID=America/New_York:20170816T100000
DTSTAMP:20260422T040624
CREATED:20170825T172629Z
LAST-MODIFIED:20170825T172629Z
UID:298-1502874000-1502877600@sinclairvillelibrary.org
SUMMARY:T.O.P.S.
DESCRIPTION:
URL:https://sinclairvillelibrary.org/event/t-o-p-s-8/
CATEGORIES:Programming
END:VEVENT
BEGIN:VEVENT
DTSTART;TZID=America/New_York:20170814T173000
DTEND;TZID=America/New_York:20170814T183000
DTSTAMP:20260422T040624
CREATED:20170825T172405Z
LAST-MODIFIED:20170825T172405Z
UID:296-1502731800-1502735400@sinclairvillelibrary.org
SUMMARY:Audubon Live at the Library
DESCRIPTION:
URL:https://sinclairvillelibrary.org/event/audubon-live-at-the-library/
CATEGORIES:Programming
END:VEVENT
END:VCALENDAR