BEGIN:VCALENDAR
VERSION:2.0
PRODID:-//Sinclairville Free Library - ECPv6.15.20//NONSGML v1.0//EN
CALSCALE:GREGORIAN
METHOD:PUBLISH
X-ORIGINAL-URL:https://sinclairvillelibrary.org
X-WR-CALDESC:Events for Sinclairville Free Library
REFRESH-INTERVAL;VALUE=DURATION:PT1H
X-Robots-Tag:noindex
X-PUBLISHED-TTL:PT1H
BEGIN:VTIMEZONE
TZID:America/New_York
BEGIN:DAYLIGHT
TZOFFSETFROM:-0500
TZOFFSETTO:-0400
TZNAME:EDT
DTSTART:20250309T070000
END:DAYLIGHT
BEGIN:STANDARD
TZOFFSETFROM:-0400
TZOFFSETTO:-0500
TZNAME:EST
DTSTART:20251102T060000
END:STANDARD
BEGIN:DAYLIGHT
TZOFFSETFROM:-0500
TZOFFSETTO:-0400
TZNAME:EDT
DTSTART:20260308T070000
END:DAYLIGHT
BEGIN:STANDARD
TZOFFSETFROM:-0400
TZOFFSETTO:-0500
TZNAME:EST
DTSTART:20261101T060000
END:STANDARD
BEGIN:DAYLIGHT
TZOFFSETFROM:-0500
TZOFFSETTO:-0400
TZNAME:EDT
DTSTART:20270314T070000
END:DAYLIGHT
BEGIN:STANDARD
TZOFFSETFROM:-0400
TZOFFSETTO:-0500
TZNAME:EST
DTSTART:20271107T060000
END:STANDARD
END:VTIMEZONE
BEGIN:VEVENT
DTSTART;TZID=America/New_York:20260501T103000
DTEND;TZID=America/New_York:20260501T120000
DTSTAMP:20260425T100343
CREATED:20260424T153245Z
LAST-MODIFIED:20260424T153245Z
UID:18662-1777631400-1777636800@sinclairvillelibrary.org
SUMMARY:Sinclairville Samplers
DESCRIPTION:Quilting\, knitting\, crochet\, embroidering and fun with friends.
URL:https://sinclairvillelibrary.org/event/sinclairville-samplers-58/
LOCATION:Sinclairville Free Library @ 15 Main Street\, Sinclairville NY 14782
CATEGORIES:Adult Programs
END:VEVENT
BEGIN:VEVENT
DTSTART;TZID=America/New_York:20260508T103000
DTEND;TZID=America/New_York:20260508T120000
DTSTAMP:20260425T100343
CREATED:20260424T153342Z
LAST-MODIFIED:20260424T153342Z
UID:18664-1778236200-1778241600@sinclairvillelibrary.org
SUMMARY:Sinclairville Samplers
DESCRIPTION:Quilting\, knitting\, crochet\, embroidering and fun with friends.
URL:https://sinclairvillelibrary.org/event/sinclairville-samplers-59/
LOCATION:Sinclairville Free Library @ 15 Main Street\, Sinclairville NY 14782
CATEGORIES:Adult Programs
END:VEVENT
BEGIN:VEVENT
DTSTART;TZID=America/New_York:20260515T103000
DTEND;TZID=America/New_York:20260515T120000
DTSTAMP:20260425T100343
CREATED:20260424T153820Z
LAST-MODIFIED:20260424T153820Z
UID:18666-1778841000-1778846400@sinclairvillelibrary.org
SUMMARY:Sinclairville Samplers
DESCRIPTION:Quilting\, knitting\, crochet\, embroidering and fun with friends.
URL:https://sinclairvillelibrary.org/event/sinclairville-samplers-60/
LOCATION:Sinclairville Free Library @ 15 Main Street\, Sinclairville NY 14782
CATEGORIES:Adult Programs
END:VEVENT
BEGIN:VEVENT
DTSTART;TZID=America/New_York:20260522T103000
DTEND;TZID=America/New_York:20260522T120000
DTSTAMP:20260425T100343
CREATED:20260424T153918Z
LAST-MODIFIED:20260424T153918Z
UID:18668-1779445800-1779451200@sinclairvillelibrary.org
SUMMARY:Sinclairville Samplers
DESCRIPTION:Quilting\, knitting\, crochet\, embroidering and fun with friends.
URL:https://sinclairvillelibrary.org/event/sinclairville-samplers-61/
LOCATION:Sinclairville Free Library @ 15 Main Street\, Sinclairville NY 14782
CATEGORIES:Adult Programs
END:VEVENT
BEGIN:VEVENT
DTSTART;TZID=America/New_York:20260529T103000
DTEND;TZID=America/New_York:20260529T120000
DTSTAMP:20260425T100343
CREATED:20260424T153956Z
LAST-MODIFIED:20260424T153956Z
UID:18670-1780050600-1780056000@sinclairvillelibrary.org
SUMMARY:Sinclairville Samplers
DESCRIPTION:Quilting\, knitting\, crochet\, embroidering and fun with friends.
URL:https://sinclairvillelibrary.org/event/sinclairville-samplers-62/
LOCATION:Sinclairville Free Library @ 15 Main Street\, Sinclairville NY 14782
CATEGORIES:Adult Programs
END:VEVENT
END:VCALENDAR